BEGIN:VCALENDAR
VERSION:2.0
PRODID:-//Swim Like A Pro - #SLAPPERS - ECPv6.15.20//NONSGML v1.0//EN
CALSCALE:GREGORIAN
METHOD:PUBLISH
X-ORIGINAL-URL:https://swim-like-a-pro.com
X-WR-CALDESC:Events for Swim Like A Pro - #SLAPPERS
REFRESH-INTERVAL;VALUE=DURATION:PT1H
X-Robots-Tag:noindex
X-PUBLISHED-TTL:PT1H
BEGIN:VTIMEZONE
TZID:America/New_York
BEGIN:DAYLIGHT
TZOFFSETFROM:-0500
TZOFFSETTO:-0400
TZNAME:EDT
DTSTART:20250309T070000
END:DAYLIGHT
BEGIN:STANDARD
TZOFFSETFROM:-0400
TZOFFSETTO:-0500
TZNAME:EST
DTSTART:20251102T060000
END:STANDARD
BEGIN:DAYLIGHT
TZOFFSETFROM:-0500
TZOFFSETTO:-0400
TZNAME:EDT
DTSTART:20260308T070000
END:DAYLIGHT
BEGIN:STANDARD
TZOFFSETFROM:-0400
TZOFFSETTO:-0500
TZNAME:EST
DTSTART:20261101T060000
END:STANDARD
BEGIN:DAYLIGHT
TZOFFSETFROM:-0500
TZOFFSETTO:-0400
TZNAME:EDT
DTSTART:20270314T070000
END:DAYLIGHT
BEGIN:STANDARD
TZOFFSETFROM:-0400
TZOFFSETTO:-0500
TZNAME:EST
DTSTART:20271107T060000
END:STANDARD
END:VTIMEZONE
BEGIN:VEVENT
DTSTART;TZID=America/New_York:20260329T110000
DTEND;TZID=America/New_York:20260329T140000
DTSTAMP:20260421T044738
CREATED:20260113T024113Z
LAST-MODIFIED:20260312T210054Z
UID:16097-1774782000-1774792800@swim-like-a-pro.com
SUMMARY:#miniSLAPPERS Training & Mock Race (PRE-REGISTRATION REQUIRED)
DESCRIPTION:Coach Sara will lead youth athletes though all aspects of triathlon!YAY! We can add swimming since the temps are a bit warmer!Bring all gear – swim & bike & run.Finish each training session with a race. \n**PRE-REGISTRATION REQUIRED**Email amanda@swim-like-a-pro.com to reserve your spot!Training will take place inside Lake Louisa State Park. Pay the $5 entry fee at the guard shack (or show your FL State Park Pass) and drive to the beach/swimming parking lot. Look for Coach Sara there. \nSwim & Bike & Run TrainingPLUS a short race to wrap up practice!Arrive wearing your tri suit or swim suit and meet at the beach/picnic parking lot.**ATTN PARENTS: One parent per child must be on site for the final 30 minutes of the training session to volunteer for the short race! Let's keep this race fun & safe!! \nWhat to bring?– Bring your SWIM & BIKE & RUN gear for FUN training & racing experience!– Helmet REQUIRED– Pack a snack & two FULL water bottles. More snacks will be provided by Coach Sara\, plus a waterjug on site to refill waterbottles! \n**PRE-REGISTRATION REQUIRED**Email amanda@swim-like-a-pro.com to reserve your spot!$30 per childhttps://swim-like-a-pro.com/youth-triathlon-training-clermont-fl/
URL:https://swim-like-a-pro.com/event/minislappers-training-mock-race-pre-registration-required-11/
LOCATION:7305 US-27\, 301 Clermont Dr\, Leesburg\, FL\, United States
END:VEVENT
END:VCALENDAR