BEGIN:VCALENDAR
VERSION:2.0
PRODID:-//Swim Like A Pro - #SLAPPERS - ECPv6.15.20//NONSGML v1.0//EN
CALSCALE:GREGORIAN
METHOD:PUBLISH
X-ORIGINAL-URL:https://swim-like-a-pro.com
X-WR-CALDESC:Events for Swim Like A Pro - #SLAPPERS
REFRESH-INTERVAL;VALUE=DURATION:PT1H
X-Robots-Tag:noindex
X-PUBLISHED-TTL:PT1H
BEGIN:VTIMEZONE
TZID:America/New_York
BEGIN:DAYLIGHT
TZOFFSETFROM:-0500
TZOFFSETTO:-0400
TZNAME:EDT
DTSTART:20250309T070000
END:DAYLIGHT
BEGIN:STANDARD
TZOFFSETFROM:-0400
TZOFFSETTO:-0500
TZNAME:EST
DTSTART:20251102T060000
END:STANDARD
BEGIN:DAYLIGHT
TZOFFSETFROM:-0500
TZOFFSETTO:-0400
TZNAME:EDT
DTSTART:20260308T070000
END:DAYLIGHT
BEGIN:STANDARD
TZOFFSETFROM:-0400
TZOFFSETTO:-0500
TZNAME:EST
DTSTART:20261101T060000
END:STANDARD
BEGIN:DAYLIGHT
TZOFFSETFROM:-0500
TZOFFSETTO:-0400
TZNAME:EDT
DTSTART:20270314T070000
END:DAYLIGHT
BEGIN:STANDARD
TZOFFSETFROM:-0400
TZOFFSETTO:-0500
TZNAME:EST
DTSTART:20271107T060000
END:STANDARD
END:VTIMEZONE
BEGIN:VEVENT
DTSTART;TZID=America/New_York:20260424T060000
DTEND;TZID=America/New_York:20260424T070000
DTSTAMP:20260424T075313
CREATED:20251015T225129Z
LAST-MODIFIED:20251015T225129Z
UID:13854-1777010400-1777014000@swim-like-a-pro.com
SUMMARY:NTC Swim Practice
DESCRIPTION:Early morning swim practice for adult swimmers and triathletes at the National Training Center pool – enter through the SOUTH POOL GATE to train with SLAP. \nCoaching fees are $75 per calendar month (or $10 per single swim) and are payable via cash or check or PayPal on our website: https://swim-like-a-pro.com/masters-swim/   \nAll athletes are welcome to come TRY OUT THE SESSIONS free of charge for 1-2 swims. Come meet the coaches and ask questions and see what’s going on.We also encourage novice swimmers to take a private lesson before their first group training session.
URL:https://swim-like-a-pro.com/event/ntc-swim-practice-89/
LOCATION:National Training Center – Clermont\, 1701 Vale Dr\, Clermont\, FL\, United States
END:VEVENT
BEGIN:VEVENT
DTSTART;VALUE=DATE:20260425
DTEND;VALUE=DATE:20260426
DTSTAMP:20260424T075313
CREATED:20260121T024634Z
LAST-MODIFIED:20260121T024634Z
UID:16305-1777075200-1777161599@swim-like-a-pro.com
SUMMARY:#miniSLAPPERS: Meek N Mighty Triathlon (St. A's weekend)
DESCRIPTION:https://satriathlon.com/
URL:https://swim-like-a-pro.com/event/minislappers-meek-n-mighty-triathlon-st-as-weekend/
LOCATION:FL
END:VEVENT
BEGIN:VEVENT
DTSTART;TZID=America/New_York:20260425T060000
DTEND;TZID=America/New_York:20260425T070000
DTSTAMP:20260424T075313
CREATED:20260225T015232Z
LAST-MODIFIED:20260225T015232Z
UID:17356-1777096800-1777100400@swim-like-a-pro.com
SUMMARY:*NEW* Run Like A Pro Workout
DESCRIPTION:Early morning run practice for adult runners and triathletes.Meet at Clermont Waterfront Park to train with SLAP Coach Jodie Stimpson. \nCoaching fees are $50 per month (or $10 per workout) and are payable PayPal on our website: https://swim-like-a-pro.com/run-workouts/ \nPrior to your first workout with SLAP\, be sure to sign the waiver: https://app.waiverelectronic.com/render/templateByRefId/swim-like-a-pro \nAll athletes are welcome to come experience TWO FREE WORKOUTS. Come meet the coach\, ask questions\, and see what’s going on. \nShow up to the workout with your running shoes on and be ready to start the warm-up at 6am. Bring a water bottle with calories & electrolytes. 
URL:https://swim-like-a-pro.com/event/new-run-like-a-pro-workout-13/
LOCATION:Waterfront Park\, 330 3rd St\, Clermont\, FL\, United States
END:VEVENT
BEGIN:VEVENT
DTSTART;TZID=America/New_York:20260425T073000
DTEND;TZID=America/New_York:20260425T083000
DTSTAMP:20260424T075313
CREATED:20251015T225129Z
LAST-MODIFIED:20251015T225129Z
UID:13855-1777102200-1777105800@swim-like-a-pro.com
SUMMARY:*parkrun - 7:30a
DESCRIPTION:Try the FREE parkrun at Clermont! Meet at Lake Hiawatha Preserve.Race starts at 7:30a…make sure you’re warmed up and ready to go AHEAD of time. \nBring your own water & volunteers are welcomed! \nRegister for your free parkrun barcode here: https://www.parkrun.us/clermontwaterfront/ \nSign up to Volunteer here: https://www.parkrun.us/clermontwaterfront/volunteer/
URL:https://swim-like-a-pro.com/event/parkrun-730a-68/
LOCATION:Lake Hiawatha Preserve\, 450 12th St\, Clermont\, FL\, United States
END:VEVENT
BEGIN:VEVENT
DTSTART;TZID=America/New_York:20260427T060000
DTEND;TZID=America/New_York:20260427T070000
DTSTAMP:20260424T075313
CREATED:20251015T225129Z
LAST-MODIFIED:20251015T225129Z
UID:13856-1777269600-1777273200@swim-like-a-pro.com
SUMMARY:NTC Swim Practice
DESCRIPTION:Early morning swim practice for adult swimmers and triathletes at the National Training Center pool – enter through the SOUTH POOL GATE to train with SLAP. \nCoaching fees are $75 per calendar month (or $10 per single swim) and are payable via cash or check or PayPal on our website: https://swim-like-a-pro.com/masters-swim/   \nAll athletes are welcome to come TRY OUT THE SESSIONS free of charge for 1-2 swims. Come meet the coaches and ask questions and see what’s going on.We also encourage novice swimmers to take a private lesson before their first group training session.
URL:https://swim-like-a-pro.com/event/ntc-swim-practice-90/
LOCATION:National Training Center – Clermont\, 1701 Vale Dr\, Clermont\, FL\, United States
END:VEVENT
BEGIN:VEVENT
DTSTART;TZID=America/New_York:20260428T120000
DTEND;TZID=America/New_York:20260428T130000
DTSTAMP:20260424T075313
CREATED:20251015T225129Z
LAST-MODIFIED:20251015T225129Z
UID:13857-1777377600-1777381200@swim-like-a-pro.com
SUMMARY:NTC Swim Practice
DESCRIPTION:Lunch-time swim practice for adult swimmers and triathletes. National Training Center pool – enter through the SOUTH POOL Entrance to train with SLAP. \nCoaching fees are $75 per calendar month (or $10 per single swim) and are payable via cash or check or PayPal on our website: https://swim-like-a-pro.com/masters-swim/ \nAll athletes are welcome to come TRY OUT 1-2 SESSIONS free of charge before joining the group. Come meet the coaches and ask questions and see what's going on.We also encourage novice swimmers to take a private lesson before their first session.
URL:https://swim-like-a-pro.com/event/ntc-swim-practice-91/
LOCATION:National Training Center – Clermont\, FL
END:VEVENT
BEGIN:VEVENT
DTSTART;TZID=America/New_York:20260428T183000
DTEND;TZID=America/New_York:20260428T193000
DTSTAMP:20260424T075313
CREATED:20251219T215332Z
LAST-MODIFIED:20251219T215332Z
UID:15577-1777401000-1777404600@swim-like-a-pro.com
SUMMARY:Celebration Swim Practice
DESCRIPTION:Evening swim practice for adult Masters swimmers and triathletes. \nSign in at the Celebration Fitness Center front desk (tell staff at desk that you are training with SLAP).\nCoaching fees are $75 per calendar month (or $10 per single swim) and are payable via our website. https://swim-like-a-pro.com/masters-swim/  \nAll participants are welcome to come TRY OUT 1-2 SWIM SESSIONS free of charge before joining the group. Come meet the coaches and swimmers\, ask questions\, and see what’s going on. We also encourage novice swimmers to take a private lesson before their first group training session.
URL:https://swim-like-a-pro.com/event/celebration-swim-practice-109/
LOCATION:AdventHealth Celebration\, 400 Celebration Pl\, Kissimmee\, FL\, United States
END:VEVENT
BEGIN:VEVENT
DTSTART;TZID=America/New_York:20260429T060000
DTEND;TZID=America/New_York:20260429T070000
DTSTAMP:20260424T075313
CREATED:20251015T225130Z
LAST-MODIFIED:20251015T225130Z
UID:13858-1777442400-1777446000@swim-like-a-pro.com
SUMMARY:NTC Swim Practice
DESCRIPTION:Early morning swim practice for adult swimmers and triathletes at the National Training Center pool – enter through the SOUTH POOL GATE to train with SLAP. \nCoaching fees are $75 per calendar month (or $10 per single swim) and are payable via cash or check or PayPal on our website: https://swim-like-a-pro.com/masters-swim/   \nAll athletes are welcome to come TRY OUT THE SESSIONS free of charge for 1-2 swims. Come meet the coaches and ask questions and see what’s going on.We also encourage novice swimmers to take a private lesson before their first group training session.
URL:https://swim-like-a-pro.com/event/ntc-swim-practice-92/
LOCATION:National Training Center – Clermont\, 1701 Vale Dr\, Clermont\, FL\, United States
END:VEVENT
BEGIN:VEVENT
DTSTART;TZID=America/New_York:20260429T183000
DTEND;TZID=America/New_York:20260429T193000
DTSTAMP:20260424T075313
CREATED:20251015T225130Z
LAST-MODIFIED:20251015T225130Z
UID:13859-1777487400-1777491000@swim-like-a-pro.com
SUMMARY:*Dash Sports Run/Walk
DESCRIPTION:Start & end at the front of Dash Sports on Montrose Street.Different route each week.All speeds\, ages\, abilities welcome. \nMore info at: https://godashsports.com/dash-sports-social-runs/
URL:https://swim-like-a-pro.com/event/dash-sports-run-walk-70/
LOCATION:Dash Sports\, 741 W Montrose St\, Clermont\, FL\, United States
END:VEVENT
BEGIN:VEVENT
DTSTART;TZID=America/New_York:20260430T060000
DTEND;TZID=America/New_York:20260430T070000
DTSTAMP:20260424T075313
CREATED:20260225T015233Z
LAST-MODIFIED:20260225T015233Z
UID:17357-1777528800-1777532400@swim-like-a-pro.com
SUMMARY:*NEW* Run Like A Pro Workout
DESCRIPTION:Early morning run practice for adult runners and triathletes.Meet at Clermont Waterfront Park to train with SLAP Coach Jodie Stimpson. \nCoaching fees are $50 per month (or $10 per workout) and are payable PayPal on our website: https://swim-like-a-pro.com/run-workouts/ \nPrior to your first workout with SLAP\, be sure to sign the waiver: https://app.waiverelectronic.com/render/templateByRefId/swim-like-a-pro \nAll athletes are welcome to come experience TWO FREE WORKOUTS. Come meet the coach\, ask questions\, and see what’s going on. \nShow up to the workout with your running shoes on and be ready to start the warm-up at 6am. Bring a water bottle with calories & electrolytes. 
URL:https://swim-like-a-pro.com/event/new-run-like-a-pro-workout-14/
LOCATION:Waterfront Park\, 330 3rd St\, Clermont\, FL\, United States
END:VEVENT
BEGIN:VEVENT
DTSTART;TZID=America/New_York:20260430T120000
DTEND;TZID=America/New_York:20260430T130000
DTSTAMP:20260424T075313
CREATED:20251015T225130Z
LAST-MODIFIED:20251015T225130Z
UID:13860-1777550400-1777554000@swim-like-a-pro.com
SUMMARY:NTC Swim Practice
DESCRIPTION:Lunch-time swim practice for adult swimmers and triathletes. National Training Center pool – enter through the SOUTH POOL Entrance to train with SLAP. \nCoaching fees are $75 per calendar month (or $10 per single swim) and are payable via cash or check or PayPal on our website: https://swim-like-a-pro.com/masters-swim/ \nAll athletes are welcome to come TRY OUT 1-2 SESSIONS free of charge before joining the group. Come meet the coaches and ask questions and see what's going on.We also encourage novice swimmers to take a private lesson before their first session.
URL:https://swim-like-a-pro.com/event/ntc-swim-practice-93/
LOCATION:National Training Center – Clermont\, FL
END:VEVENT
BEGIN:VEVENT
DTSTART;TZID=America/New_York:20260430T183000
DTEND;TZID=America/New_York:20260430T193000
DTSTAMP:20260424T075313
CREATED:20251219T215334Z
LAST-MODIFIED:20251219T215334Z
UID:15578-1777573800-1777577400@swim-like-a-pro.com
SUMMARY:Celebration Swim Practice
DESCRIPTION:Evening swim practice for adult Masters swimmers and triathletes. \nSign in at the Celebration Fitness Center front desk (tell staff at desk that you are training with SLAP).\nCoaching fees are $75 per calendar month (or $10 per single swim) and are payable via our website. https://swim-like-a-pro.com/masters-swim/  \nAll participants are welcome to come TRY OUT 1-2 SWIM SESSIONS free of charge before joining the group. Come meet the coaches and swimmers\, ask questions\, and see what’s going on. We also encourage novice swimmers to take a private lesson before their first group training session.
URL:https://swim-like-a-pro.com/event/celebration-swim-practice-110/
LOCATION:AdventHealth Celebration\, 400 Celebration Pl\, Kissimmee\, FL\, United States
END:VEVENT
END:VCALENDAR